BEGIN:VCALENDAR
VERSION:2.0
PRODID:-//Biblioteka Publiczna Gminy Szemud - ECPv6.15.20//NONSGML v1.0//EN
CALSCALE:GREGORIAN
METHOD:PUBLISH
X-ORIGINAL-URL:https://biblioteka.szemud.pl
X-WR-CALDESC:Wydarzenia dla Biblioteka Publiczna Gminy Szemud
REFRESH-INTERVAL;VALUE=DURATION:PT1H
X-Robots-Tag:noindex
X-PUBLISHED-TTL:PT1H
BEGIN:VTIMEZONE
TZID:Europe/Warsaw
BEGIN:DAYLIGHT
TZOFFSETFROM:+0100
TZOFFSETTO:+0200
TZNAME:CEST
DTSTART:20170326T010000
END:DAYLIGHT
BEGIN:STANDARD
TZOFFSETFROM:+0200
TZOFFSETTO:+0100
TZNAME:CET
DTSTART:20171029T010000
END:STANDARD
BEGIN:DAYLIGHT
TZOFFSETFROM:+0100
TZOFFSETTO:+0200
TZNAME:CEST
DTSTART:20180325T010000
END:DAYLIGHT
BEGIN:STANDARD
TZOFFSETFROM:+0200
TZOFFSETTO:+0100
TZNAME:CET
DTSTART:20181028T010000
END:STANDARD
BEGIN:DAYLIGHT
TZOFFSETFROM:+0100
TZOFFSETTO:+0200
TZNAME:CEST
DTSTART:20190331T010000
END:DAYLIGHT
BEGIN:STANDARD
TZOFFSETFROM:+0200
TZOFFSETTO:+0100
TZNAME:CET
DTSTART:20191027T010000
END:STANDARD
END:VTIMEZONE
BEGIN:VEVENT
DTSTART;TZID=Europe/Warsaw:20180206T100000
DTEND;TZID=Europe/Warsaw:20180206T120000
DTSTAMP:20260424T143811
CREATED:20180122T130640Z
LAST-MODIFIED:20180122T130640Z
UID:2279-1517911200-1517918400@biblioteka.szemud.pl
SUMMARY:Warsztaty: malowanie na szkle w Bibliotece w Bojanie
DESCRIPTION:
URL:https://biblioteka.szemud.pl/index.php/event/warsztaty-malowanie-na-szkle-w-bibliotece-w-bojanie/
LOCATION:Biblioteka w Bojanie\, ul. J. Wybickiego 38\, Bojano
ATTACH;FMTTYPE=image/png:https://biblioteka.szemud.pl/wp-content/uploads/2016/10/ferie-Bojano.png
END:VEVENT
BEGIN:VEVENT
DTSTART;TZID=Europe/Warsaw:20180206T100000
DTEND;TZID=Europe/Warsaw:20180206T120000
DTSTAMP:20260424T143811
CREATED:20180124T124705Z
LAST-MODIFIED:20180124T124705Z
UID:2348-1517911200-1517918400@biblioteka.szemud.pl
SUMMARY:"Dzieciaki w kuchni" w WOK i Bibliotece w Łebnie
DESCRIPTION:
URL:https://biblioteka.szemud.pl/index.php/event/dzieciaki-w-kuchni-w-wok-i-bibliotece-w-lebnie/
LOCATION:Biblioteka w Łebnie\, ul. Kartuska 9\, Łebno
ATTACH;FMTTYPE=image/jpeg:https://biblioteka.szemud.pl/wp-content/uploads/2016/10/Ferie-Łebno.jpg
END:VEVENT
BEGIN:VEVENT
DTSTART;TZID=Europe/Warsaw:20180206T103000
DTEND;TZID=Europe/Warsaw:20180206T113000
DTSTAMP:20260424T143811
CREATED:20180122T140511Z
LAST-MODIFIED:20180122T140511Z
UID:2309-1517913000-1517916600@biblioteka.szemud.pl
SUMMARY:Poranek w krainie bajek w Bibliotece w Kielnie
DESCRIPTION:
URL:https://biblioteka.szemud.pl/index.php/event/poranek-w-krainie-bajek-w-bibliotece-w-kielnie/
LOCATION:Biblioteka w Kielnie\, ul. Oliwska 46\, Kielno
ATTACH;FMTTYPE=image/jpeg:https://biblioteka.szemud.pl/wp-content/uploads/2016/10/ferie-Kielno.jpg
END:VEVENT
BEGIN:VEVENT
DTSTART;TZID=Europe/Warsaw:20180206T120000
DTEND;TZID=Europe/Warsaw:20180206T140000
DTSTAMP:20260424T143811
CREATED:20180122T140620Z
LAST-MODIFIED:20180122T140620Z
UID:2311-1517918400-1517925600@biblioteka.szemud.pl
SUMMARY:Warsztaty: maski karnawałowe w Bibliotece w Kielnie
DESCRIPTION:
URL:https://biblioteka.szemud.pl/index.php/event/warsztaty-maski-karnawalowe-w-bibliotece-w-kielnie/
LOCATION:Biblioteka w Kielnie\, ul. Oliwska 46\, Kielno
ATTACH;FMTTYPE=image/jpeg:https://biblioteka.szemud.pl/wp-content/uploads/2016/10/ferie-Kielno.jpg
END:VEVENT
BEGIN:VEVENT
DTSTART;TZID=Europe/Warsaw:20180206T130000
DTEND;TZID=Europe/Warsaw:20180206T150000
DTSTAMP:20260424T143811
CREATED:20180124T140222Z
LAST-MODIFIED:20180124T140236Z
UID:2372-1517922000-1517929200@biblioteka.szemud.pl
SUMMARY:Warsztaty: malowanie na szkle w Bibliotece w Szemudzie
DESCRIPTION:
URL:https://biblioteka.szemud.pl/index.php/event/warsztaty-malowanie-na-szkle-w-bibliotece-w-szemudzie/
LOCATION:Biblioteka w Szemudzie\, Samorządowa 1\, Szemud
ATTACH;FMTTYPE=image/jpeg:https://biblioteka.szemud.pl/wp-content/uploads/2016/10/ferie-Szemud.jpg
END:VEVENT
BEGIN:VEVENT
DTSTART;TZID=Europe/Warsaw:20180206T150000
DTEND;TZID=Europe/Warsaw:20180206T170000
DTSTAMP:20260424T143811
CREATED:20180124T140450Z
LAST-MODIFIED:20180124T140450Z
UID:2374-1517929200-1517936400@biblioteka.szemud.pl
SUMMARY:Otwarte zajęcia gitarowe w Bibliotece w Szemudzie
DESCRIPTION:
URL:https://biblioteka.szemud.pl/index.php/event/otwarte-zajecia-gitarowe-w-bibliotece-w-szemudzie/
LOCATION:Biblioteka w Szemudzie\, Samorządowa 1\, Szemud
ATTACH;FMTTYPE=image/jpeg:https://biblioteka.szemud.pl/wp-content/uploads/2016/10/ferie-Szemud.jpg
END:VEVENT
BEGIN:VEVENT
DTSTART;TZID=Europe/Warsaw:20180206T150000
DTEND;TZID=Europe/Warsaw:20180206T170000
DTSTAMP:20260424T143811
CREATED:20180124T140622Z
LAST-MODIFIED:20180124T140741Z
UID:2376-1517929200-1517936400@biblioteka.szemud.pl
SUMMARY:Warsztaty muzyczno-ruchowe w Bibliotece w Szemudzie
DESCRIPTION:
URL:https://biblioteka.szemud.pl/index.php/event/warsztaty-muzyczno-ruchowe-w-bibliotece-w-szemudzie/
LOCATION:Biblioteka w Szemudzie\, Samorządowa 1\, Szemud
ATTACH;FMTTYPE=image/jpeg:https://biblioteka.szemud.pl/wp-content/uploads/2016/10/ferie-Szemud.jpg
END:VEVENT
END:VCALENDAR