BEGIN:VCALENDAR
VERSION:2.0
PRODID:-//Biblioteka Publiczna Gminy Szemud - ECPv6.15.20//NONSGML v1.0//EN
CALSCALE:GREGORIAN
METHOD:PUBLISH
X-WR-CALNAME:Biblioteka Publiczna Gminy Szemud
X-ORIGINAL-URL:https://biblioteka.szemud.pl
X-WR-CALDESC:Wydarzenia dla Biblioteka Publiczna Gminy Szemud
REFRESH-INTERVAL;VALUE=DURATION:PT1H
X-Robots-Tag:noindex
X-PUBLISHED-TTL:PT1H
BEGIN:VTIMEZONE
TZID:Europe/Warsaw
BEGIN:DAYLIGHT
TZOFFSETFROM:+0100
TZOFFSETTO:+0200
TZNAME:CEST
DTSTART:20170326T010000
END:DAYLIGHT
BEGIN:STANDARD
TZOFFSETFROM:+0200
TZOFFSETTO:+0100
TZNAME:CET
DTSTART:20171029T010000
END:STANDARD
BEGIN:DAYLIGHT
TZOFFSETFROM:+0100
TZOFFSETTO:+0200
TZNAME:CEST
DTSTART:20180325T010000
END:DAYLIGHT
BEGIN:STANDARD
TZOFFSETFROM:+0200
TZOFFSETTO:+0100
TZNAME:CET
DTSTART:20181028T010000
END:STANDARD
BEGIN:DAYLIGHT
TZOFFSETFROM:+0100
TZOFFSETTO:+0200
TZNAME:CEST
DTSTART:20190331T010000
END:DAYLIGHT
BEGIN:STANDARD
TZOFFSETFROM:+0200
TZOFFSETTO:+0100
TZNAME:CET
DTSTART:20191027T010000
END:STANDARD
END:VTIMEZONE
BEGIN:VEVENT
DTSTART;TZID=Europe/Warsaw:20180201T100000
DTEND;TZID=Europe/Warsaw:20180201T120000
DTSTAMP:20260424T155116
CREATED:20180124T124143Z
LAST-MODIFIED:20180124T124143Z
UID:2340-1517479200-1517486400@biblioteka.szemud.pl
SUMMARY:Warsztaty malarskie w WOK i Bibliotece w Łebnie
DESCRIPTION:
URL:https://biblioteka.szemud.pl/index.php/event/warsztaty-malarskie-w-wok-i-bibliotece-w-lebnie/
LOCATION:Biblioteka w Łebnie\, ul. Kartuska 9\, Łebno
ATTACH;FMTTYPE=image/jpeg:https://biblioteka.szemud.pl/wp-content/uploads/2016/10/Ferie-Łebno.jpg
END:VEVENT
BEGIN:VEVENT
DTSTART;TZID=Europe/Warsaw:20180201T110000
DTEND;TZID=Europe/Warsaw:20180201T130000
DTSTAMP:20260424T155116
CREATED:20180122T130445Z
LAST-MODIFIED:20180124T131641Z
UID:2277-1517482800-1517490000@biblioteka.szemud.pl
SUMMARY:Warsztaty: Lego Mindstorms w Bibliotece w Bojanie
DESCRIPTION:
URL:https://biblioteka.szemud.pl/index.php/event/warsztaty-lego-mindstorms-w-bibliotece-w-bojanie/
LOCATION:Biblioteka w Bojanie\, ul. J. Wybickiego 38\, Bojano
ATTACH;FMTTYPE=image/png:https://biblioteka.szemud.pl/wp-content/uploads/2016/10/ferie-Bojano.png
END:VEVENT
BEGIN:VEVENT
DTSTART;TZID=Europe/Warsaw:20180201T120000
DTEND;TZID=Europe/Warsaw:20180201T140000
DTSTAMP:20260424T155116
CREATED:20180124T132420Z
LAST-MODIFIED:20180207T142218Z
UID:2366-1517486400-1517493600@biblioteka.szemud.pl
SUMMARY:"Popołudnie w krainie bajek" w Bibliotece w Szemudzie
DESCRIPTION:
URL:https://biblioteka.szemud.pl/index.php/event/popoludnie-w-krainie-bajek-w-bibliotece-w-szemudzie/
LOCATION:Biblioteka w Szemudzie\, Samorządowa 1\, Szemud
ATTACH;FMTTYPE=image/jpeg:https://biblioteka.szemud.pl/wp-content/uploads/2016/10/ferie-Szemud.jpg
END:VEVENT
BEGIN:VEVENT
DTSTART;TZID=Europe/Warsaw:20180201T123000
DTEND;TZID=Europe/Warsaw:20180201T143000
DTSTAMP:20260424T155116
CREATED:20180122T131407Z
LAST-MODIFIED:20180122T131407Z
UID:2289-1517488200-1517495400@biblioteka.szemud.pl
SUMMARY:Planszomania w Bibliotece w Częstkowie
DESCRIPTION:
URL:https://biblioteka.szemud.pl/index.php/event/planszomania-w-bibliotece-w-czestkowie/
LOCATION:Biblioteka w Częstkowie\, ul. Szkolna 9\, Czestkowo
ATTACH;FMTTYPE=image/jpeg:https://biblioteka.szemud.pl/wp-content/uploads/2016/10/ferie-Częstkowo.jpg
END:VEVENT
BEGIN:VEVENT
DTSTART;TZID=Europe/Warsaw:20180201T160000
DTEND;TZID=Europe/Warsaw:20180201T180000
DTSTAMP:20260424T155116
CREATED:20180122T140031Z
LAST-MODIFIED:20180122T140031Z
UID:2303-1517500800-1517508000@biblioteka.szemud.pl
SUMMARY:Bajkowy Bal Przebierańców w Bibliotece w Kielnie
DESCRIPTION:
URL:https://biblioteka.szemud.pl/index.php/event/bajkowy-bal-przebierancow-w-bibliotece-w-kielnie/
LOCATION:Biblioteka w Kielnie\, ul. Oliwska 46\, Kielno
ATTACH;FMTTYPE=image/png:https://biblioteka.szemud.pl/wp-content/uploads/2016/10/bal-Kielno-2.png
END:VEVENT
END:VCALENDAR