BEGIN:VCALENDAR
VERSION:2.0
PRODID:-//Biblioteka Publiczna Gminy Szemud - ECPv6.15.20//NONSGML v1.0//EN
CALSCALE:GREGORIAN
METHOD:PUBLISH
X-WR-CALNAME:Biblioteka Publiczna Gminy Szemud
X-ORIGINAL-URL:https://biblioteka.szemud.pl
X-WR-CALDESC:Wydarzenia dla Biblioteka Publiczna Gminy Szemud
REFRESH-INTERVAL;VALUE=DURATION:PT1H
X-Robots-Tag:noindex
X-PUBLISHED-TTL:PT1H
BEGIN:VTIMEZONE
TZID:Europe/Warsaw
BEGIN:DAYLIGHT
TZOFFSETFROM:+0100
TZOFFSETTO:+0200
TZNAME:CEST
DTSTART:20170326T010000
END:DAYLIGHT
BEGIN:STANDARD
TZOFFSETFROM:+0200
TZOFFSETTO:+0100
TZNAME:CET
DTSTART:20171029T010000
END:STANDARD
BEGIN:DAYLIGHT
TZOFFSETFROM:+0100
TZOFFSETTO:+0200
TZNAME:CEST
DTSTART:20180325T010000
END:DAYLIGHT
BEGIN:STANDARD
TZOFFSETFROM:+0200
TZOFFSETTO:+0100
TZNAME:CET
DTSTART:20181028T010000
END:STANDARD
BEGIN:DAYLIGHT
TZOFFSETFROM:+0100
TZOFFSETTO:+0200
TZNAME:CEST
DTSTART:20190331T010000
END:DAYLIGHT
BEGIN:STANDARD
TZOFFSETFROM:+0200
TZOFFSETTO:+0100
TZNAME:CET
DTSTART:20191027T010000
END:STANDARD
END:VTIMEZONE
BEGIN:VEVENT
DTSTART;TZID=Europe/Warsaw:20180129T100000
DTEND;TZID=Europe/Warsaw:20180129T120000
DTSTAMP:20260424T144540
CREATED:20180122T142044Z
LAST-MODIFIED:20180124T084258Z
UID:2317-1517220000-1517227200@biblioteka.szemud.pl
SUMMARY:Warsztaty rzeźbiarskie w WOK i Bibliotece w Łebnie
DESCRIPTION:
URL:https://biblioteka.szemud.pl/index.php/event/warsztaty-rzezbiarskie-w-bibliotece-w-lebnie/
ATTACH;FMTTYPE=image/jpeg:https://biblioteka.szemud.pl/wp-content/uploads/2016/10/Ferie-Łebno.jpg
END:VEVENT
BEGIN:VEVENT
DTSTART;TZID=Europe/Warsaw:20180129T120000
DTEND;TZID=Europe/Warsaw:20180129T133000
DTSTAMP:20260424T144540
CREATED:20180122T145217Z
LAST-MODIFIED:20180124T084239Z
UID:2321-1517227200-1517232600@biblioteka.szemud.pl
SUMMARY:Warsztaty: maska karnawałowa w WOK i Bibliotece w Łebnie
DESCRIPTION:
URL:https://biblioteka.szemud.pl/index.php/event/warsztaty-maska-karnawalowa-w-bibliotece-w-lebnie/
LOCATION:Biblioteka w Łebnie\, ul. Kartuska 9\, Łebno
ATTACH;FMTTYPE=image/jpeg:https://biblioteka.szemud.pl/wp-content/uploads/2016/10/Ferie-Łebno.jpg
END:VEVENT
BEGIN:VEVENT
DTSTART;TZID=Europe/Warsaw:20180129T120000
DTEND;TZID=Europe/Warsaw:20180129T140000
DTSTAMP:20260424T144540
CREATED:20180124T130426Z
LAST-MODIFIED:20180124T130426Z
UID:2358-1517227200-1517234400@biblioteka.szemud.pl
SUMMARY:Warsztaty: Lego Mindstorms w Bibliotece w Szemudzie
DESCRIPTION:
URL:https://biblioteka.szemud.pl/index.php/event/warsztaty-lego-mindstorms-w-bibliotece-w-szemudzie/
LOCATION:Biblioteka w Szemudzie\, Samorządowa 1\, Szemud
ATTACH;FMTTYPE=image/jpeg:https://biblioteka.szemud.pl/wp-content/uploads/2016/10/ferie-Szemud.jpg
END:VEVENT
BEGIN:VEVENT
DTSTART;TZID=Europe/Warsaw:20180129T140000
DTEND;TZID=Europe/Warsaw:20180129T160000
DTSTAMP:20260424T144540
CREATED:20180124T131754Z
LAST-MODIFIED:20180124T131754Z
UID:2360-1517234400-1517241600@biblioteka.szemud.pl
SUMMARY:Warsztaty plastyczne: "Łańcuch życzliwości"
DESCRIPTION:
URL:https://biblioteka.szemud.pl/index.php/event/warsztaty-plastyczne-lancuch-zyczliwosci/
LOCATION:Biblioteka w Szemudzie\, Samorządowa 1\, Szemud
ATTACH;FMTTYPE=image/jpeg:https://biblioteka.szemud.pl/wp-content/uploads/2016/10/ferie-Szemud.jpg
END:VEVENT
END:VCALENDAR