BEGIN:VCALENDAR
VERSION:2.0
PRODID:-//Biblioteka Publiczna Gminy Szemud - ECPv6.15.20//NONSGML v1.0//EN
CALSCALE:GREGORIAN
METHOD:PUBLISH
X-WR-CALNAME:Biblioteka Publiczna Gminy Szemud
X-ORIGINAL-URL:https://biblioteka.szemud.pl
X-WR-CALDESC:Wydarzenia dla Biblioteka Publiczna Gminy Szemud
REFRESH-INTERVAL;VALUE=DURATION:PT1H
X-Robots-Tag:noindex
X-PUBLISHED-TTL:PT1H
BEGIN:VTIMEZONE
TZID:Europe/Warsaw
BEGIN:DAYLIGHT
TZOFFSETFROM:+0100
TZOFFSETTO:+0200
TZNAME:CEST
DTSTART:20160327T010000
END:DAYLIGHT
BEGIN:STANDARD
TZOFFSETFROM:+0200
TZOFFSETTO:+0100
TZNAME:CET
DTSTART:20161030T010000
END:STANDARD
BEGIN:DAYLIGHT
TZOFFSETFROM:+0100
TZOFFSETTO:+0200
TZNAME:CEST
DTSTART:20170326T010000
END:DAYLIGHT
BEGIN:STANDARD
TZOFFSETFROM:+0200
TZOFFSETTO:+0100
TZNAME:CET
DTSTART:20171029T010000
END:STANDARD
BEGIN:DAYLIGHT
TZOFFSETFROM:+0100
TZOFFSETTO:+0200
TZNAME:CEST
DTSTART:20180325T010000
END:DAYLIGHT
BEGIN:STANDARD
TZOFFSETFROM:+0200
TZOFFSETTO:+0100
TZNAME:CET
DTSTART:20181028T010000
END:STANDARD
END:VTIMEZONE
BEGIN:VEVENT
DTSTART;TZID=Europe/Warsaw:20171214T150000
DTEND;TZID=Europe/Warsaw:20171214T170000
DTSTAMP:20260424T195132
CREATED:20171123T131200Z
LAST-MODIFIED:20171123T131200Z
UID:2138-1513263600-1513270800@biblioteka.szemud.pl
SUMMARY:Warsztaty "Śniegowa kula" w Bibliotece w Łebnie
DESCRIPTION:
URL:https://biblioteka.szemud.pl/index.php/event/warsztaty-sniegowa-kula-w-bibliotece-w-lebnie/
LOCATION:Biblioteka w Łebnie\, ul. Kartuska 9\, Łebno
ATTACH;FMTTYPE=image/jpeg:https://biblioteka.szemud.pl/wp-content/uploads/2016/10/kula.jpg
END:VEVENT
BEGIN:VEVENT
DTSTART;TZID=Europe/Warsaw:20171214T150000
DTEND;TZID=Europe/Warsaw:20171214T170000
DTSTAMP:20260424T195132
CREATED:20171211T095741Z
LAST-MODIFIED:20171211T095741Z
UID:2178-1513263600-1513270800@biblioteka.szemud.pl
SUMMARY:Warsztaty tworzenia bombek dla dorosłych w Bibliotece w Częstkowie
DESCRIPTION:
URL:https://biblioteka.szemud.pl/index.php/event/warsztaty-tworzenia-bombek-dla-doroslych-w-bibliotece-w-czestkowie/
LOCATION:Biblioteka w Częstkowie\, ul. Szkolna 9\, Czestkowo
ATTACH;FMTTYPE=image/png:https://biblioteka.szemud.pl/wp-content/uploads/2016/10/Bombki-Częstkowo.png
END:VEVENT
BEGIN:VEVENT
DTSTART;TZID=Europe/Warsaw:20171214T170000
DTEND;TZID=Europe/Warsaw:20171214T190000
DTSTAMP:20260424T195132
CREATED:20171123T131416Z
LAST-MODIFIED:20171123T131416Z
UID:2140-1513270800-1513278000@biblioteka.szemud.pl
SUMMARY:Warsztaty "Śniegowa kula" w Bibliotece w Szemudzie
DESCRIPTION:
URL:https://biblioteka.szemud.pl/index.php/event/warsztaty-sniegowa-kula-w-bibliotece-w-szemudzie/
LOCATION:Biblioteka w Szemudzie\, Samorządowa 1\, Szemud
ATTACH;FMTTYPE=image/jpeg:https://biblioteka.szemud.pl/wp-content/uploads/2016/10/kula.jpg
END:VEVENT
END:VCALENDAR