BEGIN:VCALENDAR
VERSION:2.0
PRODID:-//Biblioteka Publiczna Gminy Szemud - ECPv6.15.20//NONSGML v1.0//EN
CALSCALE:GREGORIAN
METHOD:PUBLISH
X-WR-CALNAME:Biblioteka Publiczna Gminy Szemud
X-ORIGINAL-URL:https://biblioteka.szemud.pl
X-WR-CALDESC:Wydarzenia dla Biblioteka Publiczna Gminy Szemud
REFRESH-INTERVAL;VALUE=DURATION:PT1H
X-Robots-Tag:noindex
X-PUBLISHED-TTL:PT1H
BEGIN:VTIMEZONE
TZID:Europe/Warsaw
BEGIN:DAYLIGHT
TZOFFSETFROM:+0100
TZOFFSETTO:+0200
TZNAME:CEST
DTSTART:20160327T010000
END:DAYLIGHT
BEGIN:STANDARD
TZOFFSETFROM:+0200
TZOFFSETTO:+0100
TZNAME:CET
DTSTART:20161030T010000
END:STANDARD
BEGIN:DAYLIGHT
TZOFFSETFROM:+0100
TZOFFSETTO:+0200
TZNAME:CEST
DTSTART:20170326T010000
END:DAYLIGHT
BEGIN:STANDARD
TZOFFSETFROM:+0200
TZOFFSETTO:+0100
TZNAME:CET
DTSTART:20171029T010000
END:STANDARD
BEGIN:DAYLIGHT
TZOFFSETFROM:+0100
TZOFFSETTO:+0200
TZNAME:CEST
DTSTART:20180325T010000
END:DAYLIGHT
BEGIN:STANDARD
TZOFFSETFROM:+0200
TZOFFSETTO:+0100
TZNAME:CET
DTSTART:20181028T010000
END:STANDARD
END:VTIMEZONE
BEGIN:VEVENT
DTSTART;TZID=Europe/Warsaw:20171213T100000
DTEND;TZID=Europe/Warsaw:20171213T110000
DTSTAMP:20260424T184121
CREATED:20171207T133658Z
LAST-MODIFIED:20171208T113042Z
UID:2171-1513159200-1513162800@biblioteka.szemud.pl
SUMMARY:Teatrzyk mikołajkowy w Bibliotece w Szemudzie
DESCRIPTION:
URL:https://biblioteka.szemud.pl/index.php/event/teatrzyk-mikolajkowy-w-bibliotece-w-szemudzie/
LOCATION:Biblioteka w Szemudzie\, Samorządowa 1\, Szemud
ATTACH;FMTTYPE=image/jpeg:https://biblioteka.szemud.pl/wp-content/uploads/2016/10/Mikołajki-teatr.jpg
END:VEVENT
BEGIN:VEVENT
DTSTART;TZID=Europe/Warsaw:20171213T100000
DTEND;TZID=Europe/Warsaw:20171213T120000
DTSTAMP:20260424T184121
CREATED:20171124T093727Z
LAST-MODIFIED:20171124T093727Z
UID:2152-1513159200-1513166400@biblioteka.szemud.pl
SUMMARY:Warsztaty "Zimowa praca przestrzenna" w Bibliotece w Częstkowie
DESCRIPTION:
URL:https://biblioteka.szemud.pl/index.php/event/warsztaty-zimowa-praca-przestrzenna-w-bibliotece-w-czestkowie/
LOCATION:Biblioteka w Częstkowie\, ul. Szkolna 9\, Czestkowo
ATTACH;FMTTYPE=image/jpeg:https://biblioteka.szemud.pl/wp-content/uploads/2016/10/praca-przestrzenna.jpg
END:VEVENT
END:VCALENDAR