BEGIN:VCALENDAR
VERSION:2.0
PRODID:-//Biblioteka Publiczna Gminy Szemud - ECPv6.15.20//NONSGML v1.0//EN
CALSCALE:GREGORIAN
METHOD:PUBLISH
X-ORIGINAL-URL:https://biblioteka.szemud.pl
X-WR-CALDESC:Wydarzenia dla Biblioteka Publiczna Gminy Szemud
REFRESH-INTERVAL;VALUE=DURATION:PT1H
X-Robots-Tag:noindex
X-PUBLISHED-TTL:PT1H
BEGIN:VTIMEZONE
TZID:Europe/Warsaw
BEGIN:DAYLIGHT
TZOFFSETFROM:+0100
TZOFFSETTO:+0200
TZNAME:CEST
DTSTART:20160327T010000
END:DAYLIGHT
BEGIN:STANDARD
TZOFFSETFROM:+0200
TZOFFSETTO:+0100
TZNAME:CET
DTSTART:20161030T010000
END:STANDARD
BEGIN:DAYLIGHT
TZOFFSETFROM:+0100
TZOFFSETTO:+0200
TZNAME:CEST
DTSTART:20170326T010000
END:DAYLIGHT
BEGIN:STANDARD
TZOFFSETFROM:+0200
TZOFFSETTO:+0100
TZNAME:CET
DTSTART:20171029T010000
END:STANDARD
BEGIN:DAYLIGHT
TZOFFSETFROM:+0100
TZOFFSETTO:+0200
TZNAME:CEST
DTSTART:20180325T010000
END:DAYLIGHT
BEGIN:STANDARD
TZOFFSETFROM:+0200
TZOFFSETTO:+0100
TZNAME:CET
DTSTART:20181028T010000
END:STANDARD
END:VTIMEZONE
BEGIN:VEVENT
DTSTART;TZID=Europe/Warsaw:20170511T083000
DTEND;TZID=Europe/Warsaw:20170511T100000
DTSTAMP:20260425T060507
CREATED:20170505T090825Z
LAST-MODIFIED:20170505T090825Z
UID:1457-1494491400-1494496800@biblioteka.szemud.pl
SUMMARY:Spotkanie autorskie z Ewą Cichocką w Bibliotece w Bojanie
DESCRIPTION:
URL:https://biblioteka.szemud.pl/index.php/event/spotkanie-autorskie-z-ewa-cichocka-w-bibliotece-w-bojanie/
LOCATION:Biblioteka w Bojanie\, ul. J. Wybickiego 38\, Bojano
ATTACH;FMTTYPE=image/png:https://biblioteka.szemud.pl/wp-content/uploads/2016/10/tydzien-bibliotek-2017.png
END:VEVENT
BEGIN:VEVENT
DTSTART;TZID=Europe/Warsaw:20170511T090000
DTEND;TZID=Europe/Warsaw:20170511T103000
DTSTAMP:20260425T060507
CREATED:20170505T092949Z
LAST-MODIFIED:20170505T092949Z
UID:1477-1494493200-1494498600@biblioteka.szemud.pl
SUMMARY:Spektakl „Czerwony Kapturek” w Bibliotece w Łebnie
DESCRIPTION:
URL:https://biblioteka.szemud.pl/index.php/event/spektakl-czerwony-kapturek-w-bibliotece-w-lebnie/
LOCATION:Biblioteka w Łebnie\, ul. Kartuska 9\, Łebno
ATTACH;FMTTYPE=image/png:https://biblioteka.szemud.pl/wp-content/uploads/2016/10/tydzien-bibliotek-2017.png
END:VEVENT
BEGIN:VEVENT
DTSTART;TZID=Europe/Warsaw:20170511T103000
DTEND;TZID=Europe/Warsaw:20170511T120000
DTSTAMP:20260425T060507
CREATED:20170505T091155Z
LAST-MODIFIED:20170505T091155Z
UID:1459-1494498600-1494504000@biblioteka.szemud.pl
SUMMARY:Spotkanie autorskie z Ewą Cichocką w Bibliotece w Kielnie
DESCRIPTION:
URL:https://biblioteka.szemud.pl/index.php/event/spotkanie-autorskie-z-ewa-cichocka-w-bibliotece-w-kielnie/
LOCATION:Biblioteka w Kielnie\, ul. Oliwska 46\, Kielno
ATTACH;FMTTYPE=image/png:https://biblioteka.szemud.pl/wp-content/uploads/2016/10/tydzien-bibliotek-2017.png
END:VEVENT
BEGIN:VEVENT
DTSTART;TZID=Europe/Warsaw:20170511T110000
DTEND;TZID=Europe/Warsaw:20170511T123000
DTSTAMP:20260425T060507
CREATED:20170505T093144Z
LAST-MODIFIED:20170505T093144Z
UID:1479-1494500400-1494505800@biblioteka.szemud.pl
SUMMARY:Spektakl „Czerwony Kapturek” w Bibliotece w Częstkowie
DESCRIPTION:
URL:https://biblioteka.szemud.pl/index.php/event/spektakl-czerwony-kapturek-w-bibliotece-w-czestkowie/
LOCATION:Biblioteka w Częstkowie\, ul. Szkolna 9\, Czestkowo
ATTACH;FMTTYPE=image/png:https://biblioteka.szemud.pl/wp-content/uploads/2016/10/tydzien-bibliotek-2017.png
END:VEVENT
BEGIN:VEVENT
DTSTART;TZID=Europe/Warsaw:20170511T110000
DTEND;TZID=Europe/Warsaw:20170511T123000
DTSTAMP:20260425T060507
CREATED:20170505T093622Z
LAST-MODIFIED:20170505T093622Z
UID:1483-1494500400-1494505800@biblioteka.szemud.pl
SUMMARY:Pasowanie na czytelnika w Bibliotece w Łebnie
DESCRIPTION:
URL:https://biblioteka.szemud.pl/index.php/event/pasowanie-na-czytelnika-w-bibliotece-w-lebnie/
LOCATION:Biblioteka w Łebnie\, ul. Kartuska 9\, Łebno
ATTACH;FMTTYPE=image/png:https://biblioteka.szemud.pl/wp-content/uploads/2016/10/tydzien-bibliotek-2017.png
END:VEVENT
BEGIN:VEVENT
DTSTART;TZID=Europe/Warsaw:20170511T130000
DTEND;TZID=Europe/Warsaw:20170511T143000
DTSTAMP:20260425T060507
CREATED:20170505T093440Z
LAST-MODIFIED:20170505T093440Z
UID:1481-1494507600-1494513000@biblioteka.szemud.pl
SUMMARY:Spektakl „Czerwony Kapturek” w Bibliotece w Szemudzie
DESCRIPTION:
URL:https://biblioteka.szemud.pl/index.php/event/spektakl-czerwony-kapturek-w-bibliotece-w-szemudzie/
LOCATION:Biblioteka w Szemudzie\, Samorządowa 1\, Szemud
ATTACH;FMTTYPE=image/png:https://biblioteka.szemud.pl/wp-content/uploads/2016/10/tydzien-bibliotek-2017.png
END:VEVENT
END:VCALENDAR