BEGIN:VCALENDAR
VERSION:2.0
PRODID:-//Biblioteka Publiczna Gminy Szemud - ECPv6.15.20//NONSGML v1.0//EN
CALSCALE:GREGORIAN
METHOD:PUBLISH
X-ORIGINAL-URL:https://biblioteka.szemud.pl
X-WR-CALDESC:Wydarzenia dla Biblioteka Publiczna Gminy Szemud
REFRESH-INTERVAL;VALUE=DURATION:PT1H
X-Robots-Tag:noindex
X-PUBLISHED-TTL:PT1H
BEGIN:VTIMEZONE
TZID:Europe/Warsaw
BEGIN:DAYLIGHT
TZOFFSETFROM:+0100
TZOFFSETTO:+0200
TZNAME:CEST
DTSTART:20150329T010000
END:DAYLIGHT
BEGIN:STANDARD
TZOFFSETFROM:+0200
TZOFFSETTO:+0100
TZNAME:CET
DTSTART:20151025T010000
END:STANDARD
BEGIN:DAYLIGHT
TZOFFSETFROM:+0100
TZOFFSETTO:+0200
TZNAME:CEST
DTSTART:20160327T010000
END:DAYLIGHT
BEGIN:STANDARD
TZOFFSETFROM:+0200
TZOFFSETTO:+0100
TZNAME:CET
DTSTART:20161030T010000
END:STANDARD
BEGIN:DAYLIGHT
TZOFFSETFROM:+0100
TZOFFSETTO:+0200
TZNAME:CEST
DTSTART:20170326T010000
END:DAYLIGHT
BEGIN:STANDARD
TZOFFSETFROM:+0200
TZOFFSETTO:+0100
TZNAME:CET
DTSTART:20171029T010000
END:STANDARD
END:VTIMEZONE
BEGIN:VEVENT
DTSTART;TZID=Europe/Warsaw:20161121T160000
DTEND;TZID=Europe/Warsaw:20161121T190000
DTSTAMP:20260425T142457
CREATED:20161117T095046Z
LAST-MODIFIED:20161117T095046Z
UID:524-1479744000-1479754800@biblioteka.szemud.pl
SUMMARY:Elżbieta Zubrzycka w Częstkowie
DESCRIPTION:Złość to potężne uczucie. Kiedy jest potrzebne\, zbędne\, skąd się bierze i jak nad nim zapanować…Na to pytanie postara się odpowiedzieć założycielka Gdańskiego Wydawnictwa Psychologicznego\, autorka wielu bestsellerowych książek o charakterze edukacyjnym i twórczyni programu Bezpieczne Dziecko – dr Elżbieta Zubrzycka. \nDr Elżbieta Zubrzycka – biolog i psycholog\, założycielka i prezes Gdańskiego Wydawnictwa Psychologicznego. Po studiach w Poradni Nerwic zajmowała się terapią rodzin. Na Uniwersytecie Gdańskim wykładała psychologię\, a obecnie prowadzi Wydawnictwo GWP\, którego misją jest wspomaganie rozwoju osobistego poprzez edukację. Lubi ludzi i zawsze się nimi zajmowała. Jej pasją jest spotykanie ludzi i opowiadanie im o książkach\, dzięki którym można podnieść jakość własnego życia i cieszyć się nim w pełni. Pisze i wydaje książki dla dzieci z myślą o tym\, aby w ten sposób rodzice i wychowawcy wzajemnie się wspierali i wymieniali doświadczeniem.
URL:https://biblioteka.szemud.pl/index.php/event/elzbieta-zubrzycka-w-czestkowie/
LOCATION:Biblioteka w Częstkowie\, ul. Szkolna 9\, Czestkowo
END:VEVENT
END:VCALENDAR